BEGIN:VCALENDAR
VERSION:2.0
PRODID:-//Scivias Institut für Kunst und Spiritualität - ECPv6.15.17.1//NONSGML v1.0//EN
CALSCALE:GREGORIAN
METHOD:PUBLISH
X-WR-CALNAME:Scivias Institut für Kunst und Spiritualität
X-ORIGINAL-URL:https://www.scivias-institut.de
X-WR-CALDESC:Veranstaltungen für Scivias Institut für Kunst und Spiritualität
REFRESH-INTERVAL;VALUE=DURATION:PT1H
X-Robots-Tag:noindex
X-PUBLISHED-TTL:PT1H
BEGIN:VTIMEZONE
TZID:Europe/Berlin
BEGIN:DAYLIGHT
TZOFFSETFROM:+0100
TZOFFSETTO:+0200
TZNAME:CEST
DTSTART:20230326T010000
END:DAYLIGHT
BEGIN:STANDARD
TZOFFSETFROM:+0200
TZOFFSETTO:+0100
TZNAME:CET
DTSTART:20231029T010000
END:STANDARD
BEGIN:DAYLIGHT
TZOFFSETFROM:+0100
TZOFFSETTO:+0200
TZNAME:CEST
DTSTART:20240331T010000
END:DAYLIGHT
BEGIN:STANDARD
TZOFFSETFROM:+0200
TZOFFSETTO:+0100
TZNAME:CET
DTSTART:20241027T010000
END:STANDARD
BEGIN:DAYLIGHT
TZOFFSETFROM:+0100
TZOFFSETTO:+0200
TZNAME:CEST
DTSTART:20250330T010000
END:DAYLIGHT
BEGIN:STANDARD
TZOFFSETFROM:+0200
TZOFFSETTO:+0100
TZNAME:CET
DTSTART:20251026T010000
END:STANDARD
END:VTIMEZONE
BEGIN:VEVENT
DTSTART;TZID=Europe/Berlin:20240515T080000
DTEND;TZID=Europe/Berlin:20240515T170000
DTSTAMP:20260426T011646
CREATED:20240515T214304Z
LAST-MODIFIED:20240515T214304Z
UID:8152-1715760000-1715792400@www.scivias-institut.de
SUMMARY:10.2 On the Hildegard Way
DESCRIPTION:Vortrag von Dr. Annette Esser
URL:https://www.scivias-institut.de/event/10-2-on-the-hildegard-way/
LOCATION:Bad Kreuznach\, Haus des Gastes\, Kurhausstraße 22-24\, Bad Kreuznach\, 55543\, Germany
CATEGORIES:Hildegard-Woche 2024
ATTACH;FMTTYPE=image/png:https://www.scivias-institut.de/wp-content/uploads/2024/04/HiWO_3.png
ORGANIZER;CN="Scivias Institut f%C3%BCr Kunst und Spiritualit%C3%A4t e.V.":MAILTO:contact@scivias.info
END:VEVENT
END:VCALENDAR